BEGIN:VCALENDAR
VERSION:2.0
PRODID:-//Maui Mindful Movement - ECPv6.15.1.1//NONSGML v1.0//EN
CALSCALE:GREGORIAN
METHOD:PUBLISH
X-ORIGINAL-URL:https://mauimindfulmovement.org
X-WR-CALDESC:Events for Maui Mindful Movement
REFRESH-INTERVAL;VALUE=DURATION:PT1H
X-Robots-Tag:noindex
X-PUBLISHED-TTL:PT1H
BEGIN:VTIMEZONE
TZID:Pacific/Honolulu
BEGIN:STANDARD
TZOFFSETFROM:-1000
TZOFFSETTO:-1000
TZNAME:HST
DTSTART:20250101T000000
END:STANDARD
END:VTIMEZONE
BEGIN:VEVENT
DTSTART;TZID=Pacific/Honolulu:20250802T183000
DTEND;TZID=Pacific/Honolulu:20250802T200000
DTSTAMP:20260424T104301
CREATED:20250528T231719Z
LAST-MODIFIED:20250713T222041Z
UID:10000053-1754159400-1754164800@mauimindfulmovement.org
SUMMARY:Kirtan - Community Chant
DESCRIPTION:Community Kirtan – A Night of Sacred Rhythms and Devotional Chanting \nElevate your spirit through sacred sound! Join our Kirtan gathering on Saturday August 2nd at Wisdom Flow Yoga. Experience the joy of lifting our voices in harmony\, calling for happiness\, health\, and freedom for all beings—no experience needed\, \nThe ancient tradition of Kirtan\, is a form of devotional call-and-response chanting originating from India. Join us as skilled musicians lead sacred Sanskrit mantras set to captivating melodies and rhythms. Participants of all backgrounds are welcome to sing along\, dance\, or simply absorb the meditative atmosphere. This gathering offers a unique opportunity to connect with community through shared sound\, quieting the mind\, and opening the heart—no musical experience necessary. \nJoin us for this Collective Feel-Good Experience\, lead by Jago! \nThis community event is brought to you by Maui Access to Mindful Movement in partnership with the Maui Strong Fund \n\n\n\n\n\n\n\n\n\n\n\n\n\n\n\n\nsuggested donation $35 – This event is a fundraiser for MAMM’s scholarship fund\n \nonline registration required for entrance – please no drop-ins \nEVERYONE WELCOME\, bring the whole family \n 
URL:https://mauimindfulmovement.org/event/kirtan-august-2/
LOCATION:Wisdom Flow Studios\, 95 Makawao AVE. Suite 202 Suite 202\, Makawao\, HI\, 96768\, United States
CATEGORIES:Breath-Meditation,Yoga
ATTACH;FMTTYPE=image/jpeg:https://mauimindfulmovement.org/wp-content/uploads/2025/04/KIRTAN-1.jpg
ORGANIZER;CN="Maui Mindful Movement":MAILTO:aloha@mauimindfulmovement.org
END:VEVENT
BEGIN:VEVENT
DTSTART;TZID=Pacific/Honolulu:20250809T140000
DTEND;TZID=Pacific/Honolulu:20250809T153000
DTSTAMP:20260424T104301
CREATED:20250709T004014Z
LAST-MODIFIED:20250805T211855Z
UID:10000064-1754748000-1754753400@mauimindfulmovement.org
SUMMARY:Intro to Ayurveda
DESCRIPTION:Join Lala Naidu and Diana De Piñeres for a 90-minute journey into the heart of Ayurveda\, the traditional healing system of India. Rooted in the rhythms of nature\, Ayurveda offers timeless tools to support balance\, vitality\, and self-awareness. Through breath\, gentle movement\, and personal reflection\, you’ll be introduced to the five elements and the three doshas—Vata\, Pitta\, and Kapha—that influence everything from digestion to energy and mood. \nYou’ll take a short self-assessment to better understand your unique constitution and leave with simple yet powerful lifestyle practices to support your health through the seasons. As we prepare to transition into autumn\, we’ll also share a gentle Ayurvedic cleanse designed to support renewal\, digestion\, and inner clarity. \n\n\n Wear comfortable clothing\n Bring a water bottle to stay hydrated.\n Bring a notebook or journal and a pen\n\nThis community gathering is brought to you by Maui Access to Mindful Movement in partnership with Hawai’i Community Foundations and the Maui Strong Fund.\n\nSuggested donation $35 –This event is a fundraiser for MAMM’s scholarship fund\n\n  \n Location: Wisdom Flow Studios – 95 Makawao Ave. Pukalani 96768\n For adults 16+
URL:https://mauimindfulmovement.org/event/intro-to-ayurveda/
LOCATION:Wisdom Flow Studios\, 95 Makawao AVE. Suite 202 Suite 202\, Makawao\, HI\, 96768\, United States
CATEGORIES:Breath-Meditation,Yoga
ATTACH;FMTTYPE=image/jpeg:https://mauimindfulmovement.org/wp-content/uploads/2025/07/INTRO2AYU.jpg
ORGANIZER;CN="Maui Mindful Movement":MAILTO:aloha@mauimindfulmovement.org
END:VEVENT
BEGIN:VEVENT
DTSTART;TZID=Pacific/Honolulu:20250830T183000
DTEND;TZID=Pacific/Honolulu:20250830T203000
DTSTAMP:20260424T104301
CREATED:20250618T232855Z
LAST-MODIFIED:20250813T221050Z
UID:10000059-1756578600-1756585800@mauimindfulmovement.org
SUMMARY:Moving into Silence - Dance
DESCRIPTION:Moving Towards Silence – Saturday August 30th\, 6:30-8:30PM \nAs summer begins to wane and we move into the descent of the year\, we meet at the threshold. What is possible for us when we collectively gather and share a movement journey\, and then surrender our dance into stillness and silence? First\, we explore\, get curious\, and listen through our movement for the wisdom inside us. We release and let go by stepping into the current of life force energy. We allow ourselves to be moved\, to open\, to deepen\, and to connect with what is real and true from the core. And then\, we relinquish our dance and we rest in meditation and silence together. We feel and connect with each other and spirit through the space created in the silence. In this time together\, we step out of the rational and relational mind and into the creative\, imaginal\, and relational body\, heart\, and breath. \nDuring the silent portion of our practice\, each individual has the option to receive gentle touch to support their deepening into stillness and silence. \nJoin us for this Collective Dance Experience\, lead by Alison H. Beard.\n \nThis community event is brought to you by Maui Access to Mindful Movement in partnership with the Maui Strong Fund \n\n\n\n\n\n\n\n\n\n\n\n\n\n\n\n\nSliding scale donation $10-$35 – This event is a fundraiser for MAMM’s scholarship fund\n \nEVERYONE WELCOME\, 18+\n \n 
URL:https://mauimindfulmovement.org/event/moving-to-silence/
LOCATION:Wisdom Flow Studios\, 95 Makawao AVE. Suite 202 Suite 202\, Makawao\, HI\, 96768\, United States
CATEGORIES:Breath-Meditation,Dance
ATTACH;FMTTYPE=image/jpeg:https://mauimindfulmovement.org/wp-content/uploads/2025/06/MOVE2SILENCE.jpg
ORGANIZER;CN="Maui Mindful Movement":MAILTO:aloha@mauimindfulmovement.org
END:VEVENT
END:VCALENDAR