BEGIN:VCALENDAR
VERSION:2.0
PRODID:-//Maui Mindful Movement - ECPv6.15.1.1//NONSGML v1.0//EN
CALSCALE:GREGORIAN
METHOD:PUBLISH
X-WR-CALNAME:Maui Mindful Movement
X-ORIGINAL-URL:https://mauimindfulmovement.org
X-WR-CALDESC:Events for Maui Mindful Movement
REFRESH-INTERVAL;VALUE=DURATION:PT1H
X-Robots-Tag:noindex
X-PUBLISHED-TTL:PT1H
BEGIN:VTIMEZONE
TZID:Pacific/Honolulu
BEGIN:STANDARD
TZOFFSETFROM:-1000
TZOFFSETTO:-1000
TZNAME:HST
DTSTART:20250101T000000
END:STANDARD
END:VTIMEZONE
BEGIN:VEVENT
DTSTART;TZID=Pacific/Honolulu:20250426T170000
DTEND;TZID=Pacific/Honolulu:20250426T190000
DTSTAMP:20260423T152820
CREATED:20250123T042307Z
LAST-MODIFIED:20250406T155521Z
UID:10000002-1745686800-1745694000@mauimindfulmovement.org
SUMMARY:Metamorphosis Breath - 18+
DESCRIPTION:Are you ready to feel lighter in body\, mind\, and heart? Join us for a powerfully harmonized system of breath work\, eye & body movements\, and elevating sound designed to burn through the density and heaviness of mental and physical barriers. The transformative powers of the breath have long been known by the yogis and masters from many cultures. Gather with your community to liberate and active stagnant life force so we can reclaim our power as self healers and creators of betterment and beauty.  We gather at Wisdom Flow Studios in Pukalani at 5PM on Saturday April 26th.  Details below.\n \nThis community event is brought to you by Maui Access to Mindful Movement in partnership with the Maui Strong Fund \n\n\n\n\n\n\n\n\n\n\n\n\n\n\n\n\nby donation – pay what you can\, pay it forward for those who cannot \nEVERYONE WELCOME\n \n 
URL:https://mauimindfulmovement.org/event/metamorphosis-breath/
LOCATION:Wisdom Flow Studios\, 95 Makawao AVE. Suite 202 Suite 202\, Makawao\, HI\, 96768\, United States
CATEGORIES:Breath-Meditation
ATTACH;FMTTYPE=image/jpeg:https://mauimindfulmovement.org/wp-content/uploads/2025/01/Meta-Breath-1.jpg
ORGANIZER;CN="Maui Mindful Movement":MAILTO:aloha@mauimindfulmovement.org
END:VEVENT
BEGIN:VEVENT
DTSTART;TZID=Pacific/Honolulu:20250316T160000
DTEND;TZID=Pacific/Honolulu:20250316T180000
DTSTAMP:20260423T152820
CREATED:20250225T064350Z
LAST-MODIFIED:20250313T165333Z
UID:10000034-1742140800-1742148000@mauimindfulmovement.org
SUMMARY:Unfurling Qi - Sound Bath with Acupuncture
DESCRIPTION:Join us for a combination of supportive acupuncture and sound journey to help guide the rising Qi (life force) of spring into new levels of well being and inspired expression. A community gathering of collaborative medicine to support the resilience of the Maui community in the uprising of spring. This gathering is an opportunity to harness our personal and collective intentions and direct them towards rewarding growth.  \nAcupuncture will be community style\, available to all bodies over 16 years old. Acupressure will be available for youth and folks that prefer. Please wear comfortable clothes that allow access to limbs from knees and elbows down.  \nThis community event is brought to you by Maui Access to Mindful Movement in partnership with the Maui Strong Fund \n\n\n\n\n\n\n\n\n\n\n\n\n\n\n\n\nby donation – pay what you can\, pay it forward for those who cannot \nEVERYONE WELCOME\n \n 
URL:https://mauimindfulmovement.org/event/acu-sound/
LOCATION:Wisdom Flow Studios\, 95 Makawao AVE. Suite 202 Suite 202\, Makawao\, HI\, 96768\, United States
CATEGORIES:Breath-Meditation
ATTACH;FMTTYPE=image/jpeg:https://mauimindfulmovement.org/wp-content/uploads/2025/02/ACU-SOUND.jpg
ORGANIZER;CN="Maui Mindful Movement":MAILTO:aloha@mauimindfulmovement.org
END:VEVENT
BEGIN:VEVENT
DTSTART;TZID=Pacific/Honolulu:20250222T170000
DTEND;TZID=Pacific/Honolulu:20250222T190000
DTSTAMP:20260423T152820
CREATED:20250131T025946Z
LAST-MODIFIED:20250217T224441Z
UID:10000023-1740243600-1740250800@mauimindfulmovement.org
SUMMARY:Coal to Diamonds Light and Sound Therapy
DESCRIPTION:Experience the neuroplasticity shift in your conscious mind\, as we tap into the subconscious realms of infinite possibilities … We are LIGHT…and light contains information & codes! Dive deep into your inner landscape and architecture to discover what’s possible in transforming and transmuting your inner Coal to inner Diamonds of Light! \nAn evening of Healing Light alchemized with Sound\, Hawaiian Chanting\, and Living Prayer\, Featuring Hawai’i’s Only Lucia Light Experience. with Martha Carole Cotten.\n \nThis community event is brought to you by Maui Access to Mindful Movement in partnership with the Maui Strong Fund \n\n\n\n\n\n\n\n\n\n\n\n\n\n\n\n\nby donation – pay what you can\, pay it forward for those who cannot \nEVERYONE WELCOME\, 18+\n \n 
URL:https://mauimindfulmovement.org/event/coal-to-diamonds-light-and-sound-therapy/
LOCATION:Wisdom Flow Studios\, 95 Makawao AVE. Suite 202 Suite 202\, Makawao\, HI\, 96768\, United States
CATEGORIES:Breath-Meditation
ATTACH;FMTTYPE=image/jpeg:https://mauimindfulmovement.org/wp-content/uploads/2025/01/Event-Icon.jpg
ORGANIZER;CN="Maui Mindful Movement":MAILTO:aloha@mauimindfulmovement.org
END:VEVENT
END:VCALENDAR