BEGIN:VCALENDAR
VERSION:2.0
PRODID:-//Maui Mindful Movement - ECPv6.15.1.1//NONSGML v1.0//EN
CALSCALE:GREGORIAN
METHOD:PUBLISH
X-WR-CALNAME:Maui Mindful Movement
X-ORIGINAL-URL:https://mauimindfulmovement.org
X-WR-CALDESC:Events for Maui Mindful Movement
REFRESH-INTERVAL;VALUE=DURATION:PT1H
X-Robots-Tag:noindex
X-PUBLISHED-TTL:PT1H
BEGIN:VTIMEZONE
TZID:Pacific/Honolulu
BEGIN:STANDARD
TZOFFSETFROM:-1000
TZOFFSETTO:-1000
TZNAME:HST
DTSTART:20250101T000000
END:STANDARD
END:VTIMEZONE
BEGIN:VEVENT
DTSTART;TZID=Pacific/Honolulu:20250510T100000
DTEND;TZID=Pacific/Honolulu:20250510T113000
DTSTAMP:20260424T054341
CREATED:20250210T234548Z
LAST-MODIFIED:20250418T171349Z
UID:10000030-1746871200-1746876600@mauimindfulmovement.org
SUMMARY:Better When I Dance Lahaina - 14-17 yrs
DESCRIPTION:Move your body and move your energy with Divine Feminine Dance™ to create transformation so that you walk out the door feeling better than when you walked in. This style of movement focuses on self-soothing\, well-being and good vibrations! \nIn this event\, we meet at Sanga Maui Yoga in Lahaina where Jennifer Loftus guides students through conscious movement inspired by rhythmic\, evocative music.  In this safe space\, students learn to dance from the inside out allowing their inner emotions to move them.  Allowing the body to move naturally to emotional music is deeply therapeutic.  Emotion is “energy in motion” and stuck energy needs to move. Just as wild animals shake off fear\, dance allows us to shake out stuck energy and limiting emotions so we can return to our natural flow state and experience joy\, freedom\, and creative power.  Learning to dance through grief and confusion\, and turn it into wisdom and clarity\, gives us a powerful self-healing tool.   Developing a personal dance practice or connecting with conscious dance groups allows us to live with calm confidence\, and balanced energy. \nThis event is designed for teenage girls and no dance experience is necessary. We will close the class with breath work\, stretching and a calming meditation and you will leave with some movement practices you can do at home to feel more calm and more positive energy. \nWear something comfortable to dance in\, no special shoes are needed since the dance is done barefoot. Bring a water bottle and yoga mat if you have one\, otherwise a yoga mat will be provided. \nThis community event is brought to you by Maui Access to Mindful Movement in partnership with the Maui Strong Fund \n\n\n\n\n\n\n\n\n\n\n\n\n\n\n\nby donation – pay what you can\, pay it forward for those who cannot \nfor teenage girls ages 14-17\n \n 
URL:https://mauimindfulmovement.org/event/better-when-i-dance-lahaina-14-17-yrs/
LOCATION:Sanga Maui Yoga\, 151 Kupuohi St STE H2\, Lahaina\, HI\, 96761\, United States
CATEGORIES:Dance
ATTACH;FMTTYPE=image/jpeg:https://mauimindfulmovement.org/wp-content/uploads/2025/02/Feature-Image-Lahaina-1.jpg
ORGANIZER;CN="Maui Mindful Movement":MAILTO:aloha@mauimindfulmovement.org
END:VEVENT
BEGIN:VEVENT
DTSTART;TZID=Pacific/Honolulu:20250524T140000
DTEND;TZID=Pacific/Honolulu:20250524T153000
DTSTAMP:20260424T054341
CREATED:20250211T000016Z
LAST-MODIFIED:20250219T014130Z
UID:10000031-1748095200-1748100600@mauimindfulmovement.org
SUMMARY:Better When I Dance Upcountry - 14-17 yrs
DESCRIPTION:Move your body and move your energy with Divine Feminine Dance™ to create transformation so that you walk out the door feeling better than when you walked in. This style of movement focuses on self-soothing\, well-being and good vibrations! \nIn this event\, Jennifer Loftus guides students through conscious movement inspired by rhythmic\, evocative music.  In this safe space\, students learn to dance from the inside out allowing their inner emotions to move them.  Allowing the body to move naturally to emotional music is deeply therapeutic.  Emotion is “energy in motion” and stuck energy needs to move. Just as wild animals shake off fear\, dance allows us to shake out stuck energy and limiting emotions so we can return to our natural flow state and experience joy\, freedom\, and creative power.  Learning to dance through grief and confusion\, and turn it into wisdom and clarity\, gives us a powerful self-healing tool.   Developing a personal dance practice or connecting with conscious dance groups allows us to live with calm confidence\, and balanced energy. \nThis event is designed for teenage girls and no dance experience is necessary. We will close the class with breath work\, stretching and a calming meditation and you will leave with some movement practices you can do at home to feel more calm and more positive energy. \nWear something comfortable to dance in\, no special shoes are needed since the dance is done barefoot. Bring a water bottle and yoga mat if you have one\, otherwise a yoga mat will be provided. \nThis community event is brought to you by Maui Access to Mindful Movement in partnership with the Maui Strong Fund \n\n\n\n\n\n\n\n\n\n\n\n\n\n\n\nby donation – pay what you can\, pay it forward for those who cannot \nfor teenage girls age 14-17
URL:https://mauimindfulmovement.org/event/better-dance-upcountry/
LOCATION:Wisdom Flow Studios\, 95 Makawao AVE. Suite 202 Suite 202\, Makawao\, HI\, 96768\, United States
CATEGORIES:Dance
ATTACH;FMTTYPE=image/jpeg:https://mauimindfulmovement.org/wp-content/uploads/2025/02/Feature-Image-Upcountry.jpg
ORGANIZER;CN="Maui Mindful Movement":MAILTO:aloha@mauimindfulmovement.org
END:VEVENT
END:VCALENDAR