BEGIN:VCALENDAR
VERSION:2.0
PRODID:-//Maui Mindful Movement - ECPv6.15.1.1//NONSGML v1.0//EN
CALSCALE:GREGORIAN
METHOD:PUBLISH
X-ORIGINAL-URL:https://mauimindfulmovement.org
X-WR-CALDESC:Events for Maui Mindful Movement
REFRESH-INTERVAL;VALUE=DURATION:PT1H
X-Robots-Tag:noindex
X-PUBLISHED-TTL:PT1H
BEGIN:VTIMEZONE
TZID:Pacific/Honolulu
BEGIN:STANDARD
TZOFFSETFROM:-1000
TZOFFSETTO:-1000
TZNAME:HST
DTSTART:20250101T000000
END:STANDARD
END:VTIMEZONE
BEGIN:VEVENT
DTSTART;TZID=Pacific/Honolulu:20250606T180000
DTEND;TZID=Pacific/Honolulu:20250606T203000
DTSTAMP:20260424T015443
CREATED:20250506T020412Z
LAST-MODIFIED:20250506T020444Z
UID:10000047-1749232800-1749241800@mauimindfulmovement.org
SUMMARY:Poetry in Motion
DESCRIPTION:Poetry In Motion is a joyful event designed to cultivate self expression and connection to self and others. We will enjoy an evening of writing prompts\, sharing and listening\, and somatic practices that help foster safety in our bodies as we share our creative spark with one another. celebration. This event will be led by Dominique Linden. \n– Wear comfortable clothing\n– Bring water to keep your inner flow\n– Bring a journal and something to write with\n– Okay to “write” with phone or tablet \n\nThis community gathering is brought to you by Maui Access to Mindful Movement in partnership with Hawai’i Community Foundations and the Maui Strong Fund. By donation – pay what you can or pay it forward for those who cannot. \n Location: Wisdom Flow Studios – 95 Makawao Ave. Pukalani 96768\n For adults 18+
URL:https://mauimindfulmovement.org/event/poetry-in-motion/
LOCATION:Wisdom Flow Studios\, 95 Makawao AVE. Suite 202 Suite 202\, Makawao\, HI\, 96768\, United States
CATEGORIES:Dance
ATTACH;FMTTYPE=image/jpeg:https://mauimindfulmovement.org/wp-content/uploads/2025/05/POETRY-MOTION.jpg
ORGANIZER;CN="Maui Mindful Movement":MAILTO:aloha@mauimindfulmovement.org
END:VEVENT
BEGIN:VEVENT
DTSTART;TZID=Pacific/Honolulu:20250614T180000
DTEND;TZID=Pacific/Honolulu:20250614T193000
DTSTAMP:20260424T015443
CREATED:20250411T234852Z
LAST-MODIFIED:20250413T162409Z
UID:10000042-1749924000-1749929400@mauimindfulmovement.org
SUMMARY:Malamalama Dance
DESCRIPTION: MĀLAMALAMA DANCE \n Dance with devotion\, radiance\, and heartlight \nMālamalama — the light of clarity\, the glow of insight\, the radiance that rises from within.  You are warmly invited to an evening of sacred dance designed to awaken your inner light and restore peace to body\, mind\, and spirit. Through gentle hula\, interpretive sacred dance\, and embodied prayer\, we’ll move as one — reconnecting to the wisdom within and the divine presence that guides us. \nThis is not just a class — it’s a sanctuary. A soulful space to tune up your heart light\, create beauty and art through movement\, and return to your radiance. \n Expect gentle hula\, sacred choreography\, and embodied prayer.\n No experience needed — come with a prayer and an open heart.\n All are welcome. \n Wisdom Flow Yoga | Pukalani\n Saturday\, June 14 |  6:00 PM\n By donation – Pay what you can or pay it forward\n Led by Sacred Dance Path \n Sponsored by Maui Access to Mindful Movement in partnership with the Maui Strong Fund. \n\n\n\n\n\n\n\n\n\n\n\n\n\n\n\n\n\nfor ages 16 and over \n\n \n\n\n\n\n\n\n\n\n 
URL:https://mauimindfulmovement.org/event/malamalama-dance/
LOCATION:Wisdom Flow Studios\, 95 Makawao AVE. Suite 202 Suite 202\, Makawao\, HI\, 96768\, United States
CATEGORIES:Dance
ATTACH;FMTTYPE=image/jpeg:https://mauimindfulmovement.org/wp-content/uploads/2025/04/Malamalama-Dance.jpg
ORGANIZER;CN="Maui Mindful Movement":MAILTO:aloha@mauimindfulmovement.org
END:VEVENT
BEGIN:VEVENT
DTSTART;TZID=Pacific/Honolulu:20250621T183000
DTEND;TZID=Pacific/Honolulu:20250621T203000
DTSTAMP:20260424T015443
CREATED:20250508T064545Z
LAST-MODIFIED:20250609T055838Z
UID:10000051-1750530600-1750537800@mauimindfulmovement.org
SUMMARY:Summer Solstice Dance
DESCRIPTION:Join Finn and Devi for this Summer Solstice community dance! This is a perfect opportunity to tap into the vibrant energy of our inner brightness and share it with each other in celebration of the fullness of summer. \nIn our Opening Circle we set intentions and create a sacred container for the evening. From there\, we flow into our five stage warm up practice\, inspired by the five developmental stages of human growth—Embryonic\, Creeping\, Crawling\, Standing\, and Walking. This engaging practice is designed to realign us\, improving balance and promoting self-healing. \n\n\n\n\n\n\n\n\n\n\n\n\n\n\n\n\nby donation – pay what you can\, pay it forward for those who cannot \nEVERYONE WELCOME\n \n\n \n\n\n\n\n\n\n\n\n 
URL:https://mauimindfulmovement.org/event/solstice-dance/
LOCATION:Wisdom Flow Studios\, 95 Makawao AVE. Suite 202 Suite 202\, Makawao\, HI\, 96768\, United States
CATEGORIES:Dance
ATTACH;FMTTYPE=image/jpeg:https://mauimindfulmovement.org/wp-content/uploads/2025/05/SOLSTICE-DANCE-2.jpg
ORGANIZER;CN="Maui Mindful Movement":MAILTO:aloha@mauimindfulmovement.org
END:VEVENT
END:VCALENDAR