BEGIN:VCALENDAR
VERSION:2.0
PRODID:-//Maui Mindful Movement - ECPv6.15.1.1//NONSGML v1.0//EN
CALSCALE:GREGORIAN
METHOD:PUBLISH
X-WR-CALNAME:Maui Mindful Movement
X-ORIGINAL-URL:https://mauimindfulmovement.org
X-WR-CALDESC:Events for Maui Mindful Movement
REFRESH-INTERVAL;VALUE=DURATION:PT1H
X-Robots-Tag:noindex
X-PUBLISHED-TTL:PT1H
BEGIN:VTIMEZONE
TZID:Pacific/Honolulu
BEGIN:STANDARD
TZOFFSETFROM:-1000
TZOFFSETTO:-1000
TZNAME:HST
DTSTART:20250101T000000
END:STANDARD
END:VTIMEZONE
BEGIN:VEVENT
DTSTART;TZID=Pacific/Honolulu:20250718T180000
DTEND;TZID=Pacific/Honolulu:20250718T203000
DTSTAMP:20260424T052414
CREATED:20250629T011217Z
LAST-MODIFIED:20250713T222354Z
UID:10000062-1752861600-1752870600@mauimindfulmovement.org
SUMMARY:Poetry in Motion July 18
DESCRIPTION:Poetry In Motion is a joyful event designed to cultivate self expression and connection to self and others. We will enjoy an evening of writing prompts\, sharing and listening\, and somatic practices that help foster safety in our bodies as we share our creative spark with one another. celebration. This event will be led by Dominique Linden. \n– Wear comfortable clothing\n– Bring water to keep your inner flow\n– Bring a journal and something to write with\n– Okay to “write” with phone or tablet \n\n\nThis community gathering is brought to you by Maui Access to Mindful Movement in partnership with Hawai’i Community Foundations and the Maui Strong Fund. \nSuggested donation $35 – This event is a fundraiser for MAMM’s scholarship fund \n Location: Wisdom Flow Studios – 95 Makawao Ave. Pukalani 96768\n For adults 18+
URL:https://mauimindfulmovement.org/event/poetry-in-motion-july-18/
LOCATION:Wisdom Flow Studios\, 95 Makawao AVE. Suite 202 Suite 202\, Makawao\, HI\, 96768\, United States
CATEGORIES:Dance,writing-storytelling
ATTACH;FMTTYPE=image/jpeg:https://mauimindfulmovement.org/wp-content/uploads/2025/06/POETRY2.jpg
ORGANIZER;CN="Maui Mindful Movement":MAILTO:aloha@mauimindfulmovement.org
END:VEVENT
BEGIN:VEVENT
DTSTART;TZID=Pacific/Honolulu:20250719T180000
DTEND;TZID=Pacific/Honolulu:20250719T193000
DTSTAMP:20260424T052414
CREATED:20250604T003436Z
LAST-MODIFIED:20250713T222247Z
UID:10000055-1752948000-1752953400@mauimindfulmovement.org
SUMMARY:Mana in Motion
DESCRIPTION:MANA in MOTION DANCE \n enjoy this high-vibe\, rhythm-infused\, heart-full community dance.  This is a joyful celebration of Maui pride\, island unity\, and the spirit that connects us \nThrough dreamy reggae rhythms\, Polynesian fusion dance\, and the passionate pulse of Tahitian drums\, this is your invitation to embody aloha and shine from within. In danced prayer and gratitude\, we offer this movement to Maui\, with love — a soulful thank-you to the land that feeds us\, holds us\, and shapes who we are. It is a living expression of the place we call home — a dance wild\, free\, and overflowing with aloha. \n Expect playful choreography\, engaging music\, swinging hips\, and smiling lips\n No experience needed — come ready to dance with joy.\n All are welcome. \n Wisdom Flow Yoga | Pukalani\n Saturday\, July 19 |  6:00 PM\n Suggested donation $35 – Pay what you can or pay it forward\n Led by Sacred Dance Path \nSuggested donation $35 – This event is a fundraiser for MAMM’s scholarship fund \n Sponsored by Maui Access to Mindful Movement in partnership with the Maui Strong Fund. \n\n\n\n\n\n\n\n\n\n\n\n\n\n\n\n\n\nfor ages 16 and over \n\n \n\n\n\n\n\n\n\n\n 
URL:https://mauimindfulmovement.org/event/mana-in-motion/
LOCATION:Wisdom Flow Studios\, 95 Makawao AVE. Suite 202 Suite 202\, Makawao\, HI\, 96768\, United States
CATEGORIES:Dance
ATTACH;FMTTYPE=image/jpeg:https://mauimindfulmovement.org/wp-content/uploads/2025/06/Mana-In-Motion.jpg
ORGANIZER;CN="Maui Mindful Movement":MAILTO:aloha@mauimindfulmovement.org
END:VEVENT
END:VCALENDAR