BEGIN:VCALENDAR
VERSION:2.0
PRODID:-//Maui Mindful Movement - ECPv6.15.1.1//NONSGML v1.0//EN
CALSCALE:GREGORIAN
METHOD:PUBLISH
X-WR-CALNAME:Maui Mindful Movement
X-ORIGINAL-URL:https://mauimindfulmovement.org
X-WR-CALDESC:Events for Maui Mindful Movement
REFRESH-INTERVAL;VALUE=DURATION:PT1H
X-Robots-Tag:noindex
X-PUBLISHED-TTL:PT1H
BEGIN:VTIMEZONE
TZID:Pacific/Honolulu
BEGIN:STANDARD
TZOFFSETFROM:-1000
TZOFFSETTO:-1000
TZNAME:HST
DTSTART:20250101T000000
END:STANDARD
END:VTIMEZONE
BEGIN:VEVENT
DTSTART;TZID=Pacific/Honolulu:20251017T173000
DTEND;TZID=Pacific/Honolulu:20251017T203000
DTSTAMP:20260423T121633
CREATED:20250618T233624Z
LAST-MODIFIED:20251009T025503Z
UID:10000061-1760722200-1760733000@mauimindfulmovement.org
SUMMARY:Friday Night Fun - Ages 6-12
DESCRIPTION:Friday Night Fun – keiki social – Ages 6-12 \nFriday Night Fun is a keiki social and a night off for parents.  Parents get a chance to relax while we give keiki an evening of joyful movement and supervised social interaction. Ages 6 to 12 gather with Coach Gabe from Mindful Martial Arts for grappling\, games\, and lessons in respectful interaction.. \nWith coach Gabe and his team\, your keiki 6-12 years will enjoy… \n▪ Interactive games and free rolling for extra fun\n▪ Hands-on self-defense and jiu-jitsu fundamentals\n▪ Fun\, safe\, and supervised by experienced instructors\n▪ Building confidence and fostering friendships in a safe space \n\n\n\n\n\n\n\n\nTo find out more about this family event\, click here\,\n \n\n\n\n\n\n\n\n\n\n\n\n\n\n\n\n\nBy Donation – Pay what you can\, pay it forward for those who cannot \nThis event is a fundraiser for MAMM’s scholarship fund \n\n\n\n\n\n\n\n\nEVERYONE WELCOME \n 
URL:https://mauimindfulmovement.org/event/friday-night-fun-oct17/
LOCATION:Wisdom Flow Studios\, 95 Makawao AVE. Suite 202 Suite 202\, Makawao\, HI\, 96768\, United States
CATEGORIES:Family Events,Martial Arts
ATTACH;FMTTYPE=image/jpeg:https://mauimindfulmovement.org/wp-content/uploads/2025/01/FNF.jpg
ORGANIZER;CN="Maui Mindful Movement":MAILTO:aloha@mauimindfulmovement.org
END:VEVENT
BEGIN:VEVENT
DTSTART;TZID=Pacific/Honolulu:20250711T170000
DTEND;TZID=Pacific/Honolulu:20250711T200000
DTSTAMP:20260423T121633
CREATED:20250604T004249Z
LAST-MODIFIED:20250707T211345Z
UID:10000056-1752253200-1752264000@mauimindfulmovement.org
SUMMARY:Friday Night Fun - Ages 3-12
DESCRIPTION:Friday Night Fun – keiki social – Ages 3-5 upstairs\, Ages 6-12 downstairs \nFriday Night Fun is a keiki social and a night off for parents.  Parents get a chance to relax while we give keiki an evening of joyful movement and supervised social interaction. Ages 6 to 12 gather downstairs with Itara Wood from Maui Aerial Arts.  Ages 3 to 5 upstairs with experienced early childhood educators and adult assistants. \nWith Itara Wood and her team\, your keiki 6-12 years will enjoy: \n▪ Interactive games and free rolling for extra fun\n▪ Hands-on gymnastics fundamentals\n▪ Fun\, safe\, and supervised by experienced instructors\n▪ Building confidence and fostering friendships in a safe space \nWith experienced early childhood educators and adult assistants\, your keiki 3-5 years will enjoy: \n▪A safe developmental activity area\n▪ Puppetry\n▪ Fun games\n▪ Story time\n▪ Healthy Snack \nTo find out more about this family event\, click here\,\n \n\n\n\n\n\n\n\n\n\n\n\n\n\n\n\n\nEvent cost $75 – tuition assistance available\n \nEVERYONE WELCOME\n \n 
URL:https://mauimindfulmovement.org/event/friday-night-fun-july-11/
LOCATION:Wisdom Flow Studios\, 95 Makawao AVE. Suite 202 Suite 202\, Makawao\, HI\, 96768\, United States
CATEGORIES:Family Events,Gymnastics
ATTACH;FMTTYPE=image/jpeg:https://mauimindfulmovement.org/wp-content/uploads/2025/06/FNF-AERIAL.jpg
ORGANIZER;CN="Maui Mindful Movement":MAILTO:aloha@mauimindfulmovement.org
END:VEVENT
END:VCALENDAR