BEGIN:VCALENDAR
VERSION:2.0
PRODID:-//Maui Mindful Movement - ECPv6.15.1.1//NONSGML v1.0//EN
CALSCALE:GREGORIAN
METHOD:PUBLISH
X-ORIGINAL-URL:https://mauimindfulmovement.org
X-WR-CALDESC:Events for Maui Mindful Movement
REFRESH-INTERVAL;VALUE=DURATION:PT1H
X-Robots-Tag:noindex
X-PUBLISHED-TTL:PT1H
BEGIN:VTIMEZONE
TZID:Pacific/Honolulu
BEGIN:STANDARD
TZOFFSETFROM:-1000
TZOFFSETTO:-1000
TZNAME:HST
DTSTART:20250101T000000
END:STANDARD
END:VTIMEZONE
BEGIN:VEVENT
DTSTART;TZID=Pacific/Honolulu:20250209T170000
DTEND;TZID=Pacific/Honolulu:20250209T183000
DTSTAMP:20260424T171812
CREATED:20250124T232440Z
LAST-MODIFIED:20250128T224000Z
UID:10000016-1739120400-1739125800@mauimindfulmovement.org
SUMMARY:Intro to Aerial Arts ages 7-14
DESCRIPTION:Sign your Keiki up to explore silks\, hammock\, lyra and basic gymnastics skills. They will step into strength and coordination building. Through tumbling and movement games\, keiki learn to work with their bodies to build new skills\, having fun while learning together and facing challenges with their peers. Parents can enjoy a gentle yoga class upstairs while keiki take this class in the downstairs studio. Make Sunday evenings a family affair!\n \nThis class taught by Itara Wood\, a teacher and gymnastics coach at Maui Aerial Arts. For ages 7-14 yrs. \nThis course is sponsored by Maui Access to Mindful Movement in partnership with the Maui Strong Fund \n\n\n\n\n\n\n\n\n\n\n\n\n\n\n\n\nby donation – pay what you can\, pay it forward for those who cannot \nfor ages 7-14 years\n \n 
URL:https://mauimindfulmovement.org/event/aerial-arts/
LOCATION:Wisdom Flow Studios\, 95 Makawao AVE. Suite 202 Suite 202\, Makawao\, HI\, 96768\, United States
CATEGORIES:Gymnastics
ATTACH;FMTTYPE=image/jpeg:https://mauimindfulmovement.org/wp-content/uploads/2025/01/Aerial-Arts5-1.jpg
ORGANIZER;CN="Maui Mindful Movement":MAILTO:aloha@mauimindfulmovement.org
END:VEVENT
BEGIN:VEVENT
DTSTART;TZID=Pacific/Honolulu:20250216T170000
DTEND;TZID=Pacific/Honolulu:20250216T183000
DTSTAMP:20260424T171812
CREATED:20250128T214603Z
LAST-MODIFIED:20250128T223942Z
UID:10000020-1739725200-1739730600@mauimindfulmovement.org
SUMMARY:Intro to Aerial Arts ages 7-14
DESCRIPTION:Sign your Keiki up to explore silks\, hammock\, lyra and basic gymnastics skills. They will step into strength and coordination building. Through tumbling and movement games\, keiki learn to work with their bodies to build new skills\, having fun while learning together and facing challenges with their peers. Parents can enjoy a gentle yoga class upstairs while keiki take this class in the downstairs studio. Make Sunday evenings a family affair!\n \nThis class taught by Itara Wood\, a teacher and gymnastics coach at Maui Aerial Arts. For ages 7-14 yrs. \nThis course is sponsored by Maui Access to Mindful Movement in partnership with the Maui Strong Fund \n\n\n\n\n\n\n\n\n\n\n\n\n\n\n\n\nby donation – pay what you can\, pay it forward for those who cannot \nfor ages 7-14 years\n \n 
URL:https://mauimindfulmovement.org/event/intro-to-aerial-arts-ages-7-14-yrs/
LOCATION:Wisdom Flow Studios\, 95 Makawao AVE. Suite 202 Suite 202\, Makawao\, HI\, 96768\, United States
CATEGORIES:Gymnastics
ATTACH;FMTTYPE=image/jpeg:https://mauimindfulmovement.org/wp-content/uploads/2025/01/Aerial-Arts3.jpg
ORGANIZER;CN="Maui Mindful Movement":MAILTO:aloha@mauimindfulmovement.org
END:VEVENT
BEGIN:VEVENT
DTSTART;TZID=Pacific/Honolulu:20250223T170000
DTEND;TZID=Pacific/Honolulu:20250223T183000
DTSTAMP:20260424T171812
CREATED:20250128T214657Z
LAST-MODIFIED:20250128T223924Z
UID:10000021-1740330000-1740335400@mauimindfulmovement.org
SUMMARY:Intro to Aerial Arts ages 7-14
DESCRIPTION:Sign your Keiki up to explore silks\, hammock\, lyra and basic gymnastics skills. They will step into strength and coordination building. Through tumbling and movement games\, keiki learn to work with their bodies to build new skills\, having fun while learning together and facing challenges with their peers. Parents can enjoy a gentle yoga class upstairs while keiki take this class in the downstairs studio. Make Sunday evenings a family affair!\n \nThis class taught by Itara Wood\, a teacher and gymnastics coach at Maui Aerial Arts. For ages 7-14 yrs. \nThis course is sponsored by Maui Access to Mindful Movement in partnership with the Maui Strong Fund \n\n\n\n\n\n\n\n\n\n\n\n\n\n\n\n\nby donation – pay what you can\, pay it forward for those who cannot \nfor ages 7-14 years\n \n 
URL:https://mauimindfulmovement.org/event/intro-to-aerial-arts-ages-7-14-yrs-2/
LOCATION:Wisdom Flow Studios\, 95 Makawao AVE. Suite 202 Suite 202\, Makawao\, HI\, 96768\, United States
CATEGORIES:Gymnastics
ATTACH;FMTTYPE=image/jpeg:https://mauimindfulmovement.org/wp-content/uploads/2025/01/Aerial-Arts2.jpg
ORGANIZER;CN="Maui Mindful Movement":MAILTO:aloha@mauimindfulmovement.org
END:VEVENT
END:VCALENDAR