BEGIN:VCALENDAR
VERSION:2.0
PRODID:-//Maui Mindful Movement - ECPv6.15.1.1//NONSGML v1.0//EN
CALSCALE:GREGORIAN
METHOD:PUBLISH
X-ORIGINAL-URL:https://mauimindfulmovement.org
X-WR-CALDESC:Events for Maui Mindful Movement
REFRESH-INTERVAL;VALUE=DURATION:PT1H
X-Robots-Tag:noindex
X-PUBLISHED-TTL:PT1H
BEGIN:VTIMEZONE
TZID:Pacific/Honolulu
BEGIN:STANDARD
TZOFFSETFROM:-1000
TZOFFSETTO:-1000
TZNAME:HST
DTSTART:20250101T000000
END:STANDARD
END:VTIMEZONE
BEGIN:VEVENT
DTSTART;TZID=Pacific/Honolulu:20250302T170000
DTEND;TZID=Pacific/Honolulu:20250302T183000
DTSTAMP:20260424T153220
CREATED:20250128T214759Z
LAST-MODIFIED:20250128T223906Z
UID:10000022-1740934800-1740940200@mauimindfulmovement.org
SUMMARY:Intro to Aerial Arts ages 7-14
DESCRIPTION:Sign your Keiki up to explore silks\, hammock\, lyra and basic gymnastics skills. They will step into strength and coordination building. Through tumbling and movement games\, keiki learn to work with their bodies to build new skills\, having fun while learning together and facing challenges with their peers. Parents can enjoy a gentle yoga class upstairs while keiki take this class in the downstairs studio. Make Sunday evenings a family affair!\n \nThis class taught by Itara Wood\, a teacher and gymnastics coach at Maui Aerial Arts. For ages 7-14 yrs. \nThis course is sponsored by Maui Access to Mindful Movement in partnership with the Maui Strong Fund \n\n\n\n\n\n\n\n\n\n\n\n\n\n\n\n\nby donation – pay what you can\, pay it forward for those who cannot \nfor ages 7-14 years\n \n 
URL:https://mauimindfulmovement.org/event/intro-to-aerial-arts-ages-7-14-yrs-3/
LOCATION:Wisdom Flow Studios\, 95 Makawao AVE. Suite 202 Suite 202\, Makawao\, HI\, 96768\, United States
CATEGORIES:Gymnastics
ATTACH;FMTTYPE=image/jpeg:https://mauimindfulmovement.org/wp-content/uploads/2025/01/Aerial-Arts4.jpg
ORGANIZER;CN="Maui Mindful Movement":MAILTO:aloha@mauimindfulmovement.org
END:VEVENT
BEGIN:VEVENT
DTSTART;TZID=Pacific/Honolulu:20250307T173000
DTEND;TZID=Pacific/Honolulu:20250307T203000
DTSTAMP:20260424T153220
CREATED:20250205T230809Z
LAST-MODIFIED:20250306T180225Z
UID:10000029-1741368600-1741379400@mauimindfulmovement.org
SUMMARY:Evening Circus Play - ages 6-14
DESCRIPTION:Enjoy your evening knowing your kids are safe\, active\, and having a blast.  Sign your keiki up for a playful social evening while you put your feet up and relax. This event gives parents time off while kids get an evening of adventure including aerial arts\, circus play\, games\, healthy snacks and a movie. \nKeiki ages 6 to 14 are welcome to join us for this fun night out. Our evening will begin with guidelines and games that teach mindfulness and kindness in all we do. Then keiki are led through circus play and active games\, gymnastics\, tumbling and the basics of aerial arts. Older kids may be invited to assist the teachers.  \nAfter an hour of activity\, the group will rest\, and enjoy drinks and snacks. Kids will have the option for more physical play\, or to move into an artistic hour with craft stations and drawing materials. The evening winds down with an age-appropriate uplifting movie.  \nPlease have your keiki bring a full water bottle and notify us of any food allergies when you drop them off. Have your keiki wear form fitting comfortable clothes that cover midriff\, knees\, and armpits. Yoga leggings or form-fitted pants along with a form-fitting shirt work well.  Unit 157 is located on the corner near True Value Hardware.\n \n\n\n\n\n\n\n\n\n\n\n\n\n\n\n\n\nby donation – pay what you can\, pay it forward for those who cannot \nEVERYONE WELCOME\n \n 
URL:https://mauimindfulmovement.org/event/circus-play/
LOCATION:Maui Aerial Arts\, 810 Haiku Rd. Unit 157\, Haiku\, HI\, 96708\, United States
CATEGORIES:Gymnastics
ATTACH;FMTTYPE=image/jpeg:https://mauimindfulmovement.org/wp-content/uploads/2025/02/Circus-Feature-IMG.jpg
ORGANIZER;CN="Maui Mindful Movement":MAILTO:aloha@mauimindfulmovement.org
END:VEVENT
END:VCALENDAR