BEGIN:VCALENDAR
VERSION:2.0
PRODID:-//Maui Mindful Movement - ECPv6.15.1.1//NONSGML v1.0//EN
CALSCALE:GREGORIAN
METHOD:PUBLISH
X-ORIGINAL-URL:https://mauimindfulmovement.org
X-WR-CALDESC:Events for Maui Mindful Movement
REFRESH-INTERVAL;VALUE=DURATION:PT1H
X-Robots-Tag:noindex
X-PUBLISHED-TTL:PT1H
BEGIN:VTIMEZONE
TZID:Pacific/Honolulu
BEGIN:STANDARD
TZOFFSETFROM:-1000
TZOFFSETTO:-1000
TZNAME:HST
DTSTART:20250101T000000
END:STANDARD
END:VTIMEZONE
BEGIN:VEVENT
DTSTART;TZID=Pacific/Honolulu:20250503T180000
DTEND;TZID=Pacific/Honolulu:20250503T210000
DTSTAMP:20260424T033852
CREATED:20250316T012514Z
LAST-MODIFIED:20250316T012832Z
UID:10000036-1746295200-1746306000@mauimindfulmovement.org
SUMMARY:Saturday Keiki Social
DESCRIPTION:Saturday Keiki Social is a a win-win for Maui families.  Parents get a chance to relax while we give Keiki an evening of joyful movement and supervised social interaction. Ages 6 to 12 gather downstairs with Coach Gabe from Mindful Martial Arts.  Ages 1 to 5 upstairs with River Berquist from Mele’aina Farm School. \nWith coach Gabe and his team\, your keiki 6-12 years will enjoy… \n:• Interactive games and free rolling for extra fun\n• Hands-on self-defense and jiu-jitsu fundamentals\n• Fun\, safe\, and supervised by experienced instructors\n• Building confidence and fostering friendships in a safe space \nWith River and her team\, your keiki 1-5 years will enjoy… \n:•A safe gymboree-style playground\n• Puppets and Puppet Show\n• Treasure hunt and other games\n• Story time \nFood and Drink are part of the evening.  Your keiki will come home with full bellies and full hearts. To find out more about this family event\, click the website link at the bottom of the page. \n\n\n\n\n\n\n\n\n\n\n\n\n\n\n\n\nby donation – pay what you can\, pay it forward for those who cannot \nEVERYONE WELCOME\n \n 
URL:https://mauimindfulmovement.org/event/saturday-keiki-social/
LOCATION:Wisdom Flow Studios\, 95 Makawao AVE. Suite 202 Suite 202\, Makawao\, HI\, 96768\, United States
CATEGORIES:Martial Arts
ATTACH;FMTTYPE=image/jpeg:https://mauimindfulmovement.org/wp-content/uploads/2025/03/SKS-ICON.jpg
ORGANIZER;CN="Maui Mindful Movement":MAILTO:aloha@mauimindfulmovement.org
END:VEVENT
BEGIN:VEVENT
DTSTART;TZID=Pacific/Honolulu:20250516T170000
DTEND;TZID=Pacific/Honolulu:20250516T193000
DTSTAMP:20260424T033852
CREATED:20250416T001111Z
LAST-MODIFIED:20250417T152517Z
UID:10000044-1747414800-1747423800@mauimindfulmovement.org
SUMMARY:Ninjitsu Nights - Wailuku
DESCRIPTION: New Creation Jiu-Jitsu and Maui Mindful Movement Present\n \nNINJITSU Nights: Bring your Friends\, Make new Memories \n Friday\, May 16 | 5:00 PM – 7:30 PM\n New Creation Jiu-Jitsu Academy in Wailuku \n\nParents\, you deserved a night off\, and your kids need safe space to play and socialize with strong role models leading the games.  Ninjitsu Nights is win-win for Maui families!\n\n\n\n THIS FUN-FILLED EVENING INCLUDES:\n\n Exciting Games & Challenges with Prizes\nJiu-Jitsu Drills & Movement (No experience needed!)\n Encouraging and uplifting supervision\n Pizza & Drinks will be Provided\n\nKeiki should wear comfortable workout clothes (no zippers). \n\nCLAIM YOUR SPOT!\n Sponsored by Maui Access to Mindful Movement in partnership with the Maui Strong Fund. \n\n\n\n\n\n\n\n\n\n\n\n\n\n\n\n\n\nfor ages 7-12 \n\n \n\n\n\n\n\n\n\n\n 
URL:https://mauimindfulmovement.org/event/ninjitsu-night/
LOCATION:New Creation Jiu Jitsu Academy\, 1942 Main St.\, Wailuku\, HI\, 96793\, United States
CATEGORIES:Martial Arts
ATTACH;FMTTYPE=image/jpeg:https://mauimindfulmovement.org/wp-content/uploads/2025/04/NINJITSU.jpg
ORGANIZER;CN="Maui Mindful Movement":MAILTO:aloha@mauimindfulmovement.org
END:VEVENT
END:VCALENDAR