BEGIN:VCALENDAR
VERSION:2.0
PRODID:-//Maui Mindful Movement - ECPv6.15.1.1//NONSGML v1.0//EN
CALSCALE:GREGORIAN
METHOD:PUBLISH
X-ORIGINAL-URL:https://mauimindfulmovement.org
X-WR-CALDESC:Events for Maui Mindful Movement
REFRESH-INTERVAL;VALUE=DURATION:PT1H
X-Robots-Tag:noindex
X-PUBLISHED-TTL:PT1H
BEGIN:VTIMEZONE
TZID:Pacific/Honolulu
BEGIN:STANDARD
TZOFFSETFROM:-1000
TZOFFSETTO:-1000
TZNAME:HST
DTSTART:20250101T000000
END:STANDARD
END:VTIMEZONE
BEGIN:VEVENT
DTSTART;TZID=Pacific/Honolulu:20250719T090000
DTEND;TZID=Pacific/Honolulu:20250719T110000
DTSTAMP:20260423T223630
CREATED:20250617T020333Z
LAST-MODIFIED:20250725T215503Z
UID:10000058-1752915600-1752922800@mauimindfulmovement.org
SUMMARY:Self-Defense - Wailuku
DESCRIPTION: New Creation Jiu-Jitsu and Maui Mindful Movement Present\n \nTHE PROTECTOR’S PATH / SELF-DEFENSE 101 \n Saturday\, JuLY 26th | 9:00 AM – 11:00 AM\n New Creation Jiu-Jitsu Academy in Wailuku \n\n Self-defense for those who want real skills for real situations \nWe’ll cover critical self-defense concepts—including an intro to weapons awareness and defense—so you can respond with wisdom and strength under pressure. \n Fun. Fierce.  \n\n WHAT TO EXPECT:\n• Situational Awareness\n• Threat Recognition\n• Boundary Setting\n• Space Control & Basic Striking\n• Ground Defense Fundamental\n• Escape Techniques \n\nCLAIM YOUR SPOT!\n Sponsored by Maui Access to Mindful Movement in partnership with the Maui Strong Fund. \n\n\n\n\n\n\n\n\n\n\n\n\n\n\n\n\n\nfor ages 18 and over \n\n \n\n\n\n\n\n\n\n\n 
URL:https://mauimindfulmovement.org/event/self-defense-july26/
LOCATION:New Creation Jiu Jitsu Academy\, 1942 Main St.\, Wailuku\, HI\, 96793\, United States
CATEGORIES:Martial Arts
ATTACH;FMTTYPE=image/jpeg:https://mauimindfulmovement.org/wp-content/uploads/2025/06/SELF-DEFENSE.jpg
ORGANIZER;CN="Maui Mindful Movement":MAILTO:aloha@mauimindfulmovement.org
END:VEVENT
END:VCALENDAR