BEGIN:VCALENDAR
VERSION:2.0
PRODID:-//Maui Mindful Movement - ECPv6.15.1.1//NONSGML v1.0//EN
CALSCALE:GREGORIAN
METHOD:PUBLISH
X-WR-CALNAME:Maui Mindful Movement
X-ORIGINAL-URL:https://mauimindfulmovement.org
X-WR-CALDESC:Events for Maui Mindful Movement
REFRESH-INTERVAL;VALUE=DURATION:PT1H
X-Robots-Tag:noindex
X-PUBLISHED-TTL:PT1H
BEGIN:VTIMEZONE
TZID:Pacific/Honolulu
BEGIN:STANDARD
TZOFFSETFROM:-1000
TZOFFSETTO:-1000
TZNAME:HST
DTSTART:20250101T000000
END:STANDARD
END:VTIMEZONE
BEGIN:VEVENT
DTSTART;TZID=Pacific/Honolulu:20250628T090000
DTEND;TZID=Pacific/Honolulu:20250628T113000
DTSTAMP:20260425T050131
CREATED:20250123T044054Z
LAST-MODIFIED:20250402T215954Z
UID:10000003-1751101200-1751110200@mauimindfulmovement.org
SUMMARY:Genius of Nature - ages 5-7
DESCRIPTION:Sign your keiki up to explore nature integration\, farm field study\, and mindfulness practices designed to awaken awareness of nature’s intelligence. Saturdays June 28th\, from 9:00 am to 11:30 am\, keiki ages 5 to 7 gather at Pono Grown Farm for a day of outdoor adventure.  Led by Arista Mayo\, lead teacher at Mele’Āina farm school.  Click the website link below to find out more. \nThis course is sponsored by Maui Access to Mindful Movement in partnership with the Maui Strong Fund \n\n\n\n\n\n\n\n\n\n\n\n\n\n\n\n\nBy donation – pay what you can\, pay it forward for those who cannot \nfor ages 5-7 years\n \n 
URL:https://mauimindfulmovement.org/event/genius-of-nature-5-7/
LOCATION:Pono Grown Farm School\, 641 Olinda Road\, Makawao\, HI\, 96768\, United States
CATEGORIES:Nature
ATTACH;FMTTYPE=image/jpeg:https://mauimindfulmovement.org/wp-content/uploads/2025/01/Genius-ages-5-7.jpg
ORGANIZER;CN="Maui Mindful Movement":MAILTO:aloha@mauimindfulmovement.org
END:VEVENT
BEGIN:VEVENT
DTSTART;TZID=Pacific/Honolulu:20250622T093000
DTEND;TZID=Pacific/Honolulu:20250622T120000
DTSTAMP:20260425T050131
CREATED:20250131T043244Z
LAST-MODIFIED:20250205T042048Z
UID:10000024-1750584600-1750593600@mauimindfulmovement.org
SUMMARY:Yoga and Nature Day Camp - ages 7-11
DESCRIPTION:Sign Your Kids up to explore Yoga and Nature using inspiration from Pono Grown Farm.  With farm manager and yoga teacher Lauren Bell and yoga teacher and youth coach\, Alexandra Heard.\n \nIn this workshop we will explore the farm looking for inspiration from plants\, animals and the natural cycles to create our own yoga experience. Aspects of asana & breath work will be introduced in this beautiful outdoor setting. Students will be encouraged to create movement based on what they have observed around them. Kids will take home knowledge in yoga along with nature inspired yoga cards for them to recall the flows created in class. \nKids should wear comfortable clothes and shoes (required) that can get dirty as we explore the farm. Please provide your child with a full water bottle\, sun protection & a rain jacket. \nThis course is sponsored by Maui Access to Mindful Movement in partnership with the Maui Strong Fund \n\n\n\n\n\n\n\n\n\n\n\n\n\n\n\n\nsuggested donation $30 – pay what you can\, pay it forward for those who cannot \nfor ages 7-11 years\n \n 
URL:https://mauimindfulmovement.org/event/yoga-and-nature-ages-7-11/
LOCATION:Pono Grown Farm\, 677 Olinda Road\, Makawao\, HI\, 96768\, United States
CATEGORIES:Nature,Yoga
ATTACH;FMTTYPE=image/jpeg:https://mauimindfulmovement.org/wp-content/uploads/2025/01/feature-image-1.jpg
ORGANIZER;CN="Maui Mindful Movement":MAILTO:aloha@mauimindfulmovement.org
END:VEVENT
BEGIN:VEVENT
DTSTART;TZID=Pacific/Honolulu:20250503T090000
DTEND;TZID=Pacific/Honolulu:20250503T120000
DTSTAMP:20260425T050131
CREATED:20250402T215345Z
LAST-MODIFIED:20250519T050803Z
UID:10000040-1746262800-1746273600@mauimindfulmovement.org
SUMMARY:Genius of Nature - ages 11-13
DESCRIPTION:Sign your keiki up to explore nature integration\, farm field study\, and mindfulness practices designed to awaken awareness of nature’s intelligence. Saturdays July 19th\, from 9:00 am to Noon\, keiki ages 11 to 13 gather at Pono Grown Farm for a day of outdoor adventure.  Led by Arista Mayo\, lead teacher at Mele’Āina farm school.  Click the link below to find out more. \nThis course is sponsored by Maui Access to Mindful Movement in partnership with the Maui Strong Fund \n\n\n\n\n\n\n\n\n\n\n\n\n\n\n\n\nBy donation – pay what you can\, pay it forward for those who cannot \nfor ages 11-13 years\n \n 
URL:https://mauimindfulmovement.org/event/genius-of-nature-ages-11-13/
LOCATION:Pono Grown Farm School\, 641 Olinda Road\, Makawao\, HI\, 96768\, United States
CATEGORIES:Nature
ATTACH;FMTTYPE=image/jpeg:https://mauimindfulmovement.org/wp-content/uploads/2025/01/Genius-ages-11-13.jpg
ORGANIZER;CN="Maui Mindful Movement":MAILTO:aloha@mauimindfulmovement.org
END:VEVENT
END:VCALENDAR