BEGIN:VCALENDAR
VERSION:2.0
PRODID:-//Maui Mindful Movement - ECPv6.15.1.1//NONSGML v1.0//EN
CALSCALE:GREGORIAN
METHOD:PUBLISH
X-ORIGINAL-URL:https://mauimindfulmovement.org
X-WR-CALDESC:Events for Maui Mindful Movement
REFRESH-INTERVAL;VALUE=DURATION:PT1H
X-Robots-Tag:noindex
X-PUBLISHED-TTL:PT1H
BEGIN:VTIMEZONE
TZID:Pacific/Honolulu
BEGIN:STANDARD
TZOFFSETFROM:-1000
TZOFFSETTO:-1000
TZNAME:HST
DTSTART:20250101T000000
END:STANDARD
END:VTIMEZONE
BEGIN:VEVENT
DTSTART;TZID=Pacific/Honolulu:20251004T160000
DTEND;TZID=Pacific/Honolulu:20251004T180000
DTSTAMP:20260424T005833
CREATED:20250616T231421Z
LAST-MODIFIED:20251003T215238Z
UID:10000057-1759593600-1759600800@mauimindfulmovement.org
SUMMARY:Grounding Your Experience
DESCRIPTION:This workshop invites you to consider something fundamental—support.  Like any structure\, our bodies need support to function and thrive. But unlike a building with a fixed foundation\, human support is dynamic. We are constantly negotiating with gravity\, moment by moment\, whether we’re aware of it or not. Support\, for us\, must become a dance\, something we feel with greater sensitivity and gracefully move with. \nThis relationship with the ground began before we were even born. In the womb\, and later in the arms of a caregiver\, we were held. That early experience of support—of being met and received—is where our sense of safety begins. But for many of us\, that sense has been interrupted. Life brings inevitable ruptures\, and sometimes deep breaches in trust.  For more information click here. \nJoin us for this Collective Grounding Experience\, lead by Valerie Starbuck.\n \nThis community event is brought to you by Maui Access to Mindful Movement in partnership with the Maui Strong Fund \n\n\n\n\n\n\n\n\n\n\n\n\n\n\n\n\nSliding scale donation $5-$55 \nThis event is a fundraiser for MAMM’s scholarship fund\n \nEVERYONE WELCOME\, 18+\n \n 
URL:https://mauimindfulmovement.org/event/grounding-october-4/
LOCATION:Wisdom Flow Studios\, 95 Makawao AVE. Suite 202 Suite 202\, Makawao\, HI\, 96768\, United States
CATEGORIES:Breath-Meditation,Yoga
ATTACH;FMTTYPE=image/jpeg:https://mauimindfulmovement.org/wp-content/uploads/2025/04/Ground-Your-Experience.jpg
ORGANIZER;CN="Maui Mindful Movement":MAILTO:aloha@mauimindfulmovement.org
END:VEVENT
BEGIN:VEVENT
DTSTART;TZID=Pacific/Honolulu:20251116T163000
DTEND;TZID=Pacific/Honolulu:20251116T183000
DTSTAMP:20260424T005833
CREATED:20250715T232739Z
LAST-MODIFIED:20250912T225946Z
UID:10000065-1763310600-1763317800@mauimindfulmovement.org
SUMMARY:Yoga and Sound Bath with Live Music
DESCRIPTION:Enjoy a magical Sunday evening November 16th.  Step into a sacred space where movement becomes music\, breath becomes rhythm\, and prayers become our silent song. Musical Moving Meditation is an immersive evening of flowing asana led by Jennifer Lynn\, set to the mesmerizing sound of live sitar\, led by Eric Vaughn\, a classically trained musician whose melodies invite you deeper into your body and beyond the logical mind into the music of the dream world. \n\n Wear comfortable yoga clothes\n Bring a water bottle to stay hydrated.\n Bring a willingness to listen and feel deeply\n\n\nThis community gathering is brought to you by Maui Access to Mindful Movement in partnership with Hawai’i Community Foundations and the Maui Strong Fund.\n\nSliding scale donation $10-$35 –This event is a fundraiser for MAMM’s scholarship fund\n\n  \n Location: Wisdom Flow Studios – 95 Makawao Ave. Pukalani 96768\n For adults 16+
URL:https://mauimindfulmovement.org/event/musical-moving-meditation/
LOCATION:Wisdom Flow Studios\, 95 Makawao AVE. Suite 202 Suite 202\, Makawao\, HI\, 96768\, United States
CATEGORIES:Breath-Meditation,Yoga
ATTACH;FMTTYPE=image/jpeg:https://mauimindfulmovement.org/wp-content/uploads/2025/07/MUSCI-MOVE-MED-2.jpg
ORGANIZER;CN="Maui Mindful Movement":MAILTO:aloha@mauimindfulmovement.org
END:VEVENT
BEGIN:VEVENT
DTSTART;TZID=Pacific/Honolulu:20251122T160000
DTEND;TZID=Pacific/Honolulu:20251122T180000
DTSTAMP:20260424T005833
CREATED:20250803T221318Z
LAST-MODIFIED:20251001T215909Z
UID:10000067-1763827200-1763834400@mauimindfulmovement.org
SUMMARY:Womens Embodied Empowerment
DESCRIPTION:Join Dr. Sarah Rothman and Julia Dunham for a two-hour journey designed to nurture connection\, confidence\, and the wisdom of being a woman. Through yoga\, breath work\, creative movement\, and song\, we’ll ignite individual life force\, soften into connection through the generations\, and celebrate the power of feminine embodiment. All women are welcome. Bring your besties\, daughters\, sisters\, aunties\, grandmas! \nFor more information click here. \nThis community event is brought to you by Maui Access to Mindful Movement in partnership with the Maui Strong Fund \n\n\n\n\n\n\n\n\n\n\n\n\n\n\n\n\nSliding scale donation. Your contributions support MAMM’s scholarship fund\n \nFor girls and women 9 years and older.. \n 
URL:https://mauimindfulmovement.org/event/wee/
LOCATION:Wisdom Flow Studios\, 95 Makawao AVE. Suite 202 Suite 202\, Makawao\, HI\, 96768\, United States
CATEGORIES:Breath-Meditation,Yoga
ATTACH;FMTTYPE=image/jpeg:https://mauimindfulmovement.org/wp-content/uploads/2025/08/WEE-featured-image-1.jpg
ORGANIZER;CN="Maui Mindful Movement":MAILTO:aloha@mauimindfulmovement.org
END:VEVENT
END:VCALENDAR