BEGIN:VCALENDAR
VERSION:2.0
PRODID:-//Maui Mindful Movement - ECPv6.15.1.1//NONSGML v1.0//EN
CALSCALE:GREGORIAN
METHOD:PUBLISH
X-ORIGINAL-URL:https://mauimindfulmovement.org
X-WR-CALDESC:Events for Maui Mindful Movement
REFRESH-INTERVAL;VALUE=DURATION:PT1H
X-Robots-Tag:noindex
X-PUBLISHED-TTL:PT1H
BEGIN:VTIMEZONE
TZID:Pacific/Honolulu
BEGIN:STANDARD
TZOFFSETFROM:-1000
TZOFFSETTO:-1000
TZNAME:HST
DTSTART:20250101T000000
END:STANDARD
END:VTIMEZONE
BEGIN:VEVENT
DTSTART;TZID=Pacific/Honolulu:20250601T130000
DTEND;TZID=Pacific/Honolulu:20250601T160000
DTSTAMP:20260423T134623
CREATED:20250703T220726Z
LAST-MODIFIED:20250708T225339Z
UID:10000063-1748782800-1748793600@mauimindfulmovement.org
SUMMARY:Story Time Maui
DESCRIPTION:Join us for an evening of curated storytelling to strengthening our empathy and solidarity\, led by Dominique Linden. \nOur story tellers are selected from a variety of generations\, gender expressions and cultures to weave together the rifts in the fabric of our unity. Beyond the scheduled storytellers\, audience members will be selected to share their stories! Crowd participation will be guided by the MC to keep us engaged and feeling good. There will be an intermission and time afterwards to connect. Each performer will have a designated time to tell their tale\, and we will have a musical storyteller to close out of time together which will be very special! \n\n\nThis community gathering is brought to you by Maui Access to Mindful Movement in partnership with Hawai’i Community Foundations and the Maui Strong Fund. \nby donation – your donations fund our scholarship program \n Location: The Pilina Building at Maui College 310 W Kaahumanu Ave\, Kahului\, HI 96732\n \n For adults 18+
URL:https://mauimindfulmovement.org/event/story-time/
LOCATION:Maui College Kahului\, 310 W Kaahumanu Ave\, Kahului\, HI\, 96732\, United States
CATEGORIES:writing-storytelling
ATTACH;FMTTYPE=image/jpeg:https://mauimindfulmovement.org/wp-content/uploads/2025/07/STORY-TIME-MAUI.jpg
ORGANIZER;CN="Maui Mindful Movement":MAILTO:aloha@mauimindfulmovement.org
END:VEVENT
END:VCALENDAR